BEGIN:VCALENDAR
VERSION:2.0
PRODID:-//AIPP - ECPv4.1.3//NONSGML v1.0//EN
CALSCALE:GREGORIAN
METHOD:PUBLISH
X-WR-CALNAME:AIPP
X-ORIGINAL-URL:http://aippnet.org
X-WR-CALDESC:Events for AIPP
BEGIN:VEVENT
DTSTART;TZID=UTC+0:20170714T150000
DTEND;TZID=UTC+0:20170714T180000
DTSTAMP:20170709T174122
CREATED:20170705T050646
LAST-MODIFIED:20170705T062652
UID:6139-1500044400-1500055200@aippnet.org
SUMMARY:HLPF 2017 Workshop: Human Rights and Sustainable Development: A learning\, training and practice session
DESCRIPTION:\n\nSustainable development and human rights are interlinked. One cannot be achieved without the other.\nOur session focuses on the human rights-based approach to eradicating poverty and promoting prosperity.\nJoin us to explore how human rights…\n• Make sure that no one is left behind\n• Guide SDG implementation and data collection\n• Reduce reporting burdens for states\n• Provide a framework for international cooperation and partnerships\nMeet resource persons from governments\, the UN-system\, indigenous peoples\, civil society\, national\n\nThe session will include presentations of lessons learned\, new knowledge\, practical experiences and tools.\nWHEN – 14 July 2017 3PM-6PM\nWHERE – Conference room 6\, UNHQ\, New York.
URL:http://aippnet.org/event/human-rights-and-sustainable-development-a-learning-training-and-practice-session/
CATEGORIES:International assembly
END:VEVENT
END:VCALENDAR